BEGIN:VCALENDAR
VERSION:2.0
PRODID:-//Igbobi College | Welcome to the official website of Igbobi College - ECPv6.15.20//NONSGML v1.0//EN
CALSCALE:GREGORIAN
METHOD:PUBLISH
X-WR-CALNAME:Igbobi College | Welcome to the official website of Igbobi College
X-ORIGINAL-URL:https://igbobicollege.com
X-WR-CALDESC:Events for Igbobi College | Welcome to the official website of Igbobi College
REFRESH-INTERVAL;VALUE=DURATION:PT1H
X-Robots-Tag:noindex
X-PUBLISHED-TTL:PT1H
BEGIN:VTIMEZONE
TZID:Africa/Lagos
BEGIN:STANDARD
TZOFFSETFROM:+0100
TZOFFSETTO:+0100
TZNAME:WAT
DTSTART:20220101T000000
END:STANDARD
END:VTIMEZONE
BEGIN:VEVENT
DTSTART;VALUE=DATE:20230130
DTEND;VALUE=DATE:20230131
DTSTAMP:20260423T151649
CREATED:20180816T114427Z
LAST-MODIFIED:20230130T102955Z
UID:5976-1675036800-1675123199@igbobicollege.com
SUMMARY:Late Dr. Laide Adigun Inter-House Debate
DESCRIPTION:Late Dr. Laide Adigun Inter-House Debate
URL:https://igbobicollege.com/event/late-dr-laide-adigun-inter-house-debate/
LOCATION:Rev. Angus Memorial Hall\, Igbobi College road\, Igbobi college\,\, Yaba\, Lagos\, Nigeria
END:VEVENT
BEGIN:VEVENT
DTSTART;VALUE=DATE:20230129
DTEND;VALUE=DATE:20230130
DTSTAMP:20260423T151649
CREATED:20180816T115159Z
LAST-MODIFIED:20230110T110725Z
UID:5982-1674950400-1675036799@igbobicollege.com
SUMMARY:Remembrance Day of Old Igbobians
DESCRIPTION:Remembrance Day of Old Igbobians
URL:https://igbobicollege.com/event/remembrance-day-of-old-igbobians/
LOCATION:Rev. Angus Memorial Hall\, Igbobi College road\, Igbobi college\,\, Yaba\, Lagos\, Nigeria
END:VEVENT
BEGIN:VEVENT
DTSTART;VALUE=DATE:20230126
DTEND;VALUE=DATE:20230127
DTSTAMP:20260423T151649
CREATED:20230110T121347Z
LAST-MODIFIED:20230125T144234Z
UID:5984-1674691200-1674777599@igbobicollege.com
SUMMARY:LAFGHECA Intercollegiate Games
DESCRIPTION:LAFGHECA Intercollegiate Games
URL:https://igbobicollege.com/event/lafgheca-intercollegiate-games/
LOCATION:Rev. Angus Memorial Hall\, Igbobi College road\, Igbobi college\,\, Yaba\, Lagos\, Nigeria
CATEGORIES:Sports
ATTACH;FMTTYPE=image/jpeg:https://igbobicollege.com/wp-content/uploads/2018/08/page-title-athletics.jpg
END:VEVENT
BEGIN:VEVENT
DTSTART;VALUE=DATE:20230125
DTEND;VALUE=DATE:20230126
DTSTAMP:20260423T151649
CREATED:20230110T115733Z
LAST-MODIFIED:20230110T110156Z
UID:5986-1674604800-1674691199@igbobicollege.com
SUMMARY:LAFGHECA Cultural Day
DESCRIPTION:LAFGHECA Cultural Day
URL:https://igbobicollege.com/event/lafgheca-cultural-day/
LOCATION:Rev. Angus Memorial Hall\, Igbobi College road\, Igbobi college\,\, Yaba\, Lagos\, Nigeria
ATTACH;FMTTYPE=image/jpeg:https://igbobicollege.com/wp-content/uploads/2018/08/tyler-callahan-662157-unsplash.jpg
END:VEVENT
BEGIN:VEVENT
DTSTART;VALUE=DATE:20230120
DTEND;VALUE=DATE:20230121
DTSTAMP:20260423T151649
CREATED:20180816T115715Z
LAST-MODIFIED:20230110T105630Z
UID:5989-1674172800-1674259199@igbobicollege.com
SUMMARY:Talabi Esubiyi Essay Competition
DESCRIPTION:Talabi Esubiyi Essay Competition
URL:https://igbobicollege.com/event/talabi-esubiyi-essay-competition/
LOCATION:Rev. Angus Memorial Hall\, Igbobi College road\, Igbobi college\,\, Yaba\, Lagos\, Nigeria
END:VEVENT
BEGIN:VEVENT
DTSTART;VALUE=DATE:20230117
DTEND;VALUE=DATE:20230118
DTSTAMP:20260423T151649
CREATED:20180816T120220Z
LAST-MODIFIED:20230110T105252Z
UID:5993-1673913600-1673999999@igbobicollege.com
SUMMARY:LAFGHECA Essay Competition
DESCRIPTION:LAFGHECA Essay Competition
URL:https://igbobicollege.com/event/lafgheca-essay-competition/
LOCATION:Rev. Angus Memorial Hall\, Igbobi College road\, Igbobi college\,\, Yaba\, Lagos\, Nigeria
END:VEVENT
END:VCALENDAR